BEGIN:VCALENDAR
VERSION:2.0
PRODID:-//TAMIDS - ECPv6.15.17.1//NONSGML v1.0//EN
CALSCALE:GREGORIAN
METHOD:PUBLISH
X-WR-CALNAME:TAMIDS
X-ORIGINAL-URL:https://tamids.tamu.edu
X-WR-CALDESC:Events for TAMIDS
REFRESH-INTERVAL;VALUE=DURATION:PT1H
X-Robots-Tag:noindex
X-PUBLISHED-TTL:PT1H
BEGIN:VTIMEZONE
TZID:America/Chicago
BEGIN:DAYLIGHT
TZOFFSETFROM:-0600
TZOFFSETTO:-0500
TZNAME:CDT
DTSTART:20230312T080000
END:DAYLIGHT
BEGIN:STANDARD
TZOFFSETFROM:-0500
TZOFFSETTO:-0600
TZNAME:CST
DTSTART:20231105T070000
END:STANDARD
BEGIN:DAYLIGHT
TZOFFSETFROM:-0600
TZOFFSETTO:-0500
TZNAME:CDT
DTSTART:20240310T080000
END:DAYLIGHT
BEGIN:STANDARD
TZOFFSETFROM:-0500
TZOFFSETTO:-0600
TZNAME:CST
DTSTART:20241103T070000
END:STANDARD
BEGIN:DAYLIGHT
TZOFFSETFROM:-0600
TZOFFSETTO:-0500
TZNAME:CDT
DTSTART:20250309T080000
END:DAYLIGHT
BEGIN:STANDARD
TZOFFSETFROM:-0500
TZOFFSETTO:-0600
TZNAME:CST
DTSTART:20251102T070000
END:STANDARD
END:VTIMEZONE
BEGIN:VEVENT
DTSTART;TZID=America/Chicago:20240319T160000
DTEND;TZID=America/Chicago:20240319T180000
DTSTAMP:20260419T175512
CREATED:20240219T202637Z
LAST-MODIFIED:20240307T194233Z
UID:13850-1710864000-1710871200@tamids.tamu.edu
SUMMARY:Understanding and Applying t-tests and ANOVAs (jamovi\, R)
DESCRIPTION:This workshop will consist of lectures\, demonstrations\, and exercises in which undergraduate students\, graduate students\, and faculty will conceptually understand t-tests (e.g.\, one-sample\, independent samples\, paired samples) and ANOVAs (e.g.\, one-way\, mixed\, ANCOVA) and apply them to data sets using statistical software. Attendees will identify when to employ and understand how to interpret the results of these tests. Attendees will also apply these tests to data sets using jamovi and R to answer research questions\, and visualize the results of these tests. Attendees should bring their own laptop to the workshop and are encouraged to install jamovi\, R\, and RStudio prior to attending. \n\n\n\nDate & Time: March 19  & March 28  (duplicate events)\, 4pm to 6pm \n\n\n\nContact: Ben Schulte\, Data Science Student Ambassador\, Department of Psychological and Brain Sciences (bschu5@tamu.edu) \n\n\n\nRegister for this workshop here: https://tamu.qualtrics.com/jfe/form/SV_1GqydZtwPsj7rvM 
URL:https://tamids.tamu.edu/event/understanding-and-applying-t-tests-and-anovas-jamovi-r/
CATEGORIES:Ambassador Event,TAMIDS Event
ATTACH;FMTTYPE=image/png:https://tamids.tamu.edu/wp-content/uploads/2024/01/Ambassador-Event-Featured-Image--e1706740099725.png
END:VEVENT
END:VCALENDAR