BEGIN:VCALENDAR
VERSION:2.0
PRODID:-//TAMIDS - ECPv6.15.17.1//NONSGML v1.0//EN
CALSCALE:GREGORIAN
METHOD:PUBLISH
X-WR-CALNAME:TAMIDS
X-ORIGINAL-URL:https://tamids.tamu.edu
X-WR-CALDESC:Events for TAMIDS
REFRESH-INTERVAL;VALUE=DURATION:PT1H
X-Robots-Tag:noindex
X-PUBLISHED-TTL:PT1H
BEGIN:VTIMEZONE
TZID:America/Chicago
BEGIN:DAYLIGHT
TZOFFSETFROM:-0600
TZOFFSETTO:-0500
TZNAME:CDT
DTSTART:20220313T080000
END:DAYLIGHT
BEGIN:STANDARD
TZOFFSETFROM:-0500
TZOFFSETTO:-0600
TZNAME:CST
DTSTART:20221106T070000
END:STANDARD
BEGIN:DAYLIGHT
TZOFFSETFROM:-0600
TZOFFSETTO:-0500
TZNAME:CDT
DTSTART:20230312T080000
END:DAYLIGHT
BEGIN:STANDARD
TZOFFSETFROM:-0500
TZOFFSETTO:-0600
TZNAME:CST
DTSTART:20231105T070000
END:STANDARD
BEGIN:DAYLIGHT
TZOFFSETFROM:-0600
TZOFFSETTO:-0500
TZNAME:CDT
DTSTART:20240310T080000
END:DAYLIGHT
BEGIN:STANDARD
TZOFFSETFROM:-0500
TZOFFSETTO:-0600
TZNAME:CST
DTSTART:20241103T070000
END:STANDARD
END:VTIMEZONE
BEGIN:VEVENT
DTSTART;TZID=America/Chicago:20230828T140000
DTEND;TZID=America/Chicago:20230828T150000
DTSTAMP:20260421T033150
CREATED:20230818T174011Z
LAST-MODIFIED:20230818T214327Z
UID:9841-1693231200-1693234800@tamids.tamu.edu
SUMMARY:Chih-Li Sung–Stacking Designs: Designing Multi-Fidelity Computer Experiments with Target Predictive Accuracy
DESCRIPTION:Fall 2023 Data Science Seminar SeriesChih-Li Sung–Stacking Designs: Designing Multi-Fidelity Computer Experiments with Target Predictive Accuracy\n\n\n\n\n\n\nAugust 28\, 2023 \n\n\n\n2:00 pm – 3:00 pm \n\n\n\nLocation: Blocker 220 \n\n\n\nAlso online via Zoom:Meeting ID: 974 9688 4861Password: 923446 \n\n\n\n\n\n\n\n\nSpeaker: Chih-Li Sung\, Ph.D.\, Assistant Professor of Statistics and Probability\, Michigan State University \n\n\n\nFaculty Host: Rui Tuo\, ISEN \n\n\n\nAbstract: In an era where scientific experiments can be very costly\, multi-fidelity emulators provide a useful tool for cost-efficient predictive scientific computing. For scientific applications\, the experimenter is often limited by a tight computational budget\, and thus wishes to (i) maximize predictive power of the multi-fidelity emulator via a careful design of experiments\, and (ii) ensure this model achieves a desired error tolerance with some notion of confidence. Existing design methods\, however\, do not jointly tackle objectives (i) and (ii). We propose a novel stacking design approach that addresses both goals. Using a recently proposed multi-level Gaussian process emulator model\, our stacking design provides a sequential approach for designing multi-fidelity runs such that a desired prediction error of ε>0 is met under regularity assumptions. We then prove a novel cost complexity theorem that\, under this multi-level Gaussian process emulator\, establishes a bound on the computation cost (for training data simulation) needed to achieve a prediction bound of ε. This result provides novel insights on conditions under which the proposed multi-fidelity approach improves upon a standard Gaussian process emulator which relies on a single fidelity level. Finally\, we demonstrate the effectiveness of stacking designs in a suite of simulation experiments and an application to finite element analysis. \n\n\n\nBiography: Dr. Chih-Li Sung is an Assistant Professor in the Department of Statistics and Probability at Michigan State University. His research interests include computer experiment\, uncertainty quantification\, machine learning\, big data\, and applications of statistics in engineering. He was awarded the Statistics in Physical Engineering Sciences (SPES) Award from ASA in 2019. He is currently an associate editor for Technometrics and Computational Statistics & Data Analysis (CSDA). His research is supported by NSF DMS 2113407. He received a Ph.D. at the Stewart School of Industrial & Systems Engineering at Georgia Tech in 2018. He also received a B.S. in Applied Mathematics and an M.S. in Statistics from National Tsing Hua University in 2008 and 2010\, respectively. \n\n\n\nLink to PDF Version \n\n\n\nYou can also click this link to join the seminar \n\n\n\n\n\n\n\nFor more information about TAMIDS tutorial series\, please contact Ms. Jennifer South at jsouth@tamu.edu
URL:https://tamids.tamu.edu/event/fall-2023-data-science-seminar-series-chih-li-sung-stacking-designs-designing-multi-fidelity-computer-experiments-with-target-predictive-accuracy/
CATEGORIES:TAMIDS Event
ATTACH;FMTTYPE=image/png:https://tamids.tamu.edu/wp-content/uploads/2023/08/Chih-Li-Sung-headshot-cropped.png
END:VEVENT
END:VCALENDAR