BEGIN:VCALENDAR
VERSION:2.0
PRODID:-//TAMIDS - ECPv6.15.17.1//NONSGML v1.0//EN
CALSCALE:GREGORIAN
METHOD:PUBLISH
X-WR-CALNAME:TAMIDS
X-ORIGINAL-URL:https://tamids.tamu.edu
X-WR-CALDESC:Events for TAMIDS
REFRESH-INTERVAL;VALUE=DURATION:PT1H
X-Robots-Tag:noindex
X-PUBLISHED-TTL:PT1H
BEGIN:VTIMEZONE
TZID:America/Chicago
BEGIN:DAYLIGHT
TZOFFSETFROM:-0600
TZOFFSETTO:-0500
TZNAME:CDT
DTSTART:20250309T080000
END:DAYLIGHT
BEGIN:STANDARD
TZOFFSETFROM:-0500
TZOFFSETTO:-0600
TZNAME:CST
DTSTART:20251102T070000
END:STANDARD
BEGIN:DAYLIGHT
TZOFFSETFROM:-0600
TZOFFSETTO:-0500
TZNAME:CDT
DTSTART:20260308T080000
END:DAYLIGHT
BEGIN:STANDARD
TZOFFSETFROM:-0500
TZOFFSETTO:-0600
TZNAME:CST
DTSTART:20261101T070000
END:STANDARD
BEGIN:DAYLIGHT
TZOFFSETFROM:-0600
TZOFFSETTO:-0500
TZNAME:CDT
DTSTART:20270314T080000
END:DAYLIGHT
BEGIN:STANDARD
TZOFFSETFROM:-0500
TZOFFSETTO:-0600
TZNAME:CST
DTSTART:20271107T070000
END:STANDARD
END:VTIMEZONE
BEGIN:VEVENT
DTSTART;TZID=America/Chicago:20260207T080000
DTEND;TZID=America/Chicago:20260208T170000
DTSTAMP:20260425T224804
CREATED:20260107T214625Z
LAST-MODIFIED:20260202T154441Z
UID:19540-1770451200-1770570000@tamids.tamu.edu
SUMMARY:TIDAL 2026 Hackathon
DESCRIPTION:The Tethered Informatics and Data Analytics Lab (TIDAL) is hosting their annual hackathon! TIDAL a student organization dedicated to advancing AI and machine learning education through hands-on experiences\, collaborative projects\, and community engagement.
URL:https://tidaltamu.com/hackathon
CATEGORIES:FYI,TAMIDS Event
END:VEVENT
END:VCALENDAR