BEGIN:VCALENDAR
VERSION:2.0
PRODID:-//TAMIDS - ECPv6.15.17.1//NONSGML v1.0//EN
CALSCALE:GREGORIAN
METHOD:PUBLISH
X-WR-CALNAME:TAMIDS
X-ORIGINAL-URL:https://tamids.tamu.edu
X-WR-CALDESC:Events for TAMIDS
REFRESH-INTERVAL;VALUE=DURATION:PT1H
X-Robots-Tag:noindex
X-PUBLISHED-TTL:PT1H
BEGIN:VTIMEZONE
TZID:America/Chicago
BEGIN:DAYLIGHT
TZOFFSETFROM:-0600
TZOFFSETTO:-0500
TZNAME:CDT
DTSTART:20240310T080000
END:DAYLIGHT
BEGIN:STANDARD
TZOFFSETFROM:-0500
TZOFFSETTO:-0600
TZNAME:CST
DTSTART:20241103T070000
END:STANDARD
BEGIN:DAYLIGHT
TZOFFSETFROM:-0600
TZOFFSETTO:-0500
TZNAME:CDT
DTSTART:20250309T080000
END:DAYLIGHT
BEGIN:STANDARD
TZOFFSETFROM:-0500
TZOFFSETTO:-0600
TZNAME:CST
DTSTART:20251102T070000
END:STANDARD
BEGIN:DAYLIGHT
TZOFFSETFROM:-0600
TZOFFSETTO:-0500
TZNAME:CDT
DTSTART:20260308T080000
END:DAYLIGHT
BEGIN:STANDARD
TZOFFSETFROM:-0500
TZOFFSETTO:-0600
TZNAME:CST
DTSTART:20261101T070000
END:STANDARD
BEGIN:DAYLIGHT
TZOFFSETFROM:-0600
TZOFFSETTO:-0500
TZNAME:CDT
DTSTART:20270314T080000
END:DAYLIGHT
BEGIN:STANDARD
TZOFFSETFROM:-0500
TZOFFSETTO:-0600
TZNAME:CST
DTSTART:20271107T070000
END:STANDARD
END:VTIMEZONE
BEGIN:VEVENT
DTSTART;TZID=America/Chicago:20250923T080000
DTEND;TZID=America/Chicago:20260131T170000
DTSTAMP:20260425T154357
CREATED:20251103T075500Z
LAST-MODIFIED:20251107T203748Z
UID:18788-1758614400-1769878800@tamids.tamu.edu
SUMMARY:IEEE: MOVE Truck Data Challenge
DESCRIPTION:The IEEE’s World Forum on Public Safety Technology (WF-PST) has partnered with TAMIDS to host the MOVE Data Challenge. Participants will analyze geospatial signal data collected by the MOVE trucks to identify faulty towers and propose solutions for increasing network efficiency. This challenge combines anomaly detection\, geospatial analysis\, and resource optimization to enhance disaster response strategies. \n\n\n\nRegistration is open from September 23\, 2025\, to January 31\, 2026. The competition lasts five months\, with the finalists announced in June 2026. \n\n\n\n\nFebruary: Testing Dataset is released.\n\n\n\nMarch: Final Dataset is released.\n\n\n\nMarch – May:  Solution Development\n\n\n\nJune: Results Submission\n\n\n\nJune 16\, 2026: Announcement of Finalist Teams\n\n\n\n\nScan the QR code or click the link below for more information on registration\, eligibility\, and rules! Questions can be sent to Dr. Jian Tao. \n\n\n\n\nMore information
URL:https://tamids.tamu.edu/event/ieee-move-truck-data-challenge/
CATEGORIES:TAMIDS Event
END:VEVENT
END:VCALENDAR